BEGIN:VCALENDAR
VERSION:2.0
PRODID:-//Walk Thru The Bible - ECPv6.15.17.1//NONSGML v1.0//EN
CALSCALE:GREGORIAN
METHOD:PUBLISH
X-ORIGINAL-URL:https://www.walkthru.org
X-WR-CALDESC:Events for Walk Thru The Bible
REFRESH-INTERVAL;VALUE=DURATION:PT1H
X-Robots-Tag:noindex
X-PUBLISHED-TTL:PT1H
BEGIN:VTIMEZONE
TZID:America/New_York
BEGIN:DAYLIGHT
TZOFFSETFROM:-0500
TZOFFSETTO:-0400
TZNAME:EDT
DTSTART:20250309T070000
END:DAYLIGHT
BEGIN:STANDARD
TZOFFSETFROM:-0400
TZOFFSETTO:-0500
TZNAME:EST
DTSTART:20251102T060000
END:STANDARD
BEGIN:DAYLIGHT
TZOFFSETFROM:-0500
TZOFFSETTO:-0400
TZNAME:EDT
DTSTART:20260308T070000
END:DAYLIGHT
BEGIN:STANDARD
TZOFFSETFROM:-0400
TZOFFSETTO:-0500
TZNAME:EST
DTSTART:20261101T060000
END:STANDARD
BEGIN:DAYLIGHT
TZOFFSETFROM:-0500
TZOFFSETTO:-0400
TZNAME:EDT
DTSTART:20270314T070000
END:DAYLIGHT
BEGIN:STANDARD
TZOFFSETFROM:-0400
TZOFFSETTO:-0500
TZNAME:EST
DTSTART:20271107T060000
END:STANDARD
END:VTIMEZONE
BEGIN:VEVENT
DTSTART;TZID=America/New_York:20260425T130000
DTEND;TZID=America/New_York:20260425T163000
DTSTAMP:20260420T061018
CREATED:20260213T165910Z
LAST-MODIFIED:20260322T045617Z
UID:10000747-1777122000-1777134600@www.walkthru.org
SUMMARY:First Presbyterian Church Hemet
DESCRIPTION:Experience the story of redemption like never before as this unforgettable event brings the New Testament to life. \n1:00 – 4:30 PM \n006RQ00000Xaqeb
URL:https://www.walkthru.org/event/first-presbyterian-church-hemet-2026-04-25-ntlive/
LOCATION:First Presbyterian Church Hemet – 92543\, 515 E. Kimball Avenue\, Hemet\, CA\, 92543\, United States
CATEGORIES:ntLIVE
ATTACH;FMTTYPE=image/jpeg:https://www.walkthru.org/wp-content/uploads/ntLIVE-Logo.jpg
GEO:33.7454496;-116.9669397
X-APPLE-STRUCTURED-LOCATION;VALUE=URI;X-ADDRESS=First Presbyterian Church Hemet – 92543 515 E. Kimball Avenue Hemet CA 92543 United States;X-APPLE-RADIUS=500;X-TITLE=515 E. Kimball Avenue:geo:-116.9669397,33.7454496
END:VEVENT
BEGIN:VEVENT
DTSTART;TZID=America/New_York:20260425T160000
DTEND;TZID=America/New_York:20260425T200000
DTSTAMP:20260420T061018
CREATED:20260209T194417Z
LAST-MODIFIED:20260220T185624Z
UID:10000745-1777132800-1777147200@www.walkthru.org
SUMMARY:Walk Thru the Bible
DESCRIPTION:This energy-filled evening will step through the stories and turning points of the New Testament in a hands-on\, engaging experience everyone will remember long after the event. \nCost: $20 (includes student workbook and a Chick-fil-A boxed meal)
URL:https://www.walkthru.org/event/walk-thru-the-bible/
LOCATION:Oakboro Community Building – 28129\, 423 S Main St\, Oakboro\, NC\, 28129\, United States
CATEGORIES:ntLIVE
ATTACH;FMTTYPE=image/png:https://www.walkthru.org/wp-content/uploads/ntlive.png
GEO:35.2172385;-80.3193893
X-APPLE-STRUCTURED-LOCATION;VALUE=URI;X-ADDRESS=Oakboro Community Building – 28129 423 S Main St Oakboro NC 28129 United States;X-APPLE-RADIUS=500;X-TITLE=423 S Main St:geo:-80.3193893,35.2172385
END:VEVENT
BEGIN:VEVENT
DTSTART;TZID=America/New_York:20260620T090000
DTEND;TZID=America/New_York:20260620T120000
DTSTAMP:20260420T061018
CREATED:20260322T053319Z
LAST-MODIFIED:20260322T053539Z
UID:10000757-1781946000-1781956800@www.walkthru.org
SUMMARY:Lakewood Baptist Church
DESCRIPTION:Experience the story of redemption like never before as this unforgettable event brings the New Testament to life. \nSchedule Details: \n9:00 AM-12:00 PM \n006RQ00000Xke97 \n 
URL:https://www.walkthru.org/event/lakewood-baptist-church-2023-06-20-ntlive/
LOCATION:Lakewood Baptist Church – 14750\, 150 Erie Street\, Lakewood\, NY\, 14750\, United States
CATEGORIES:ntLIVE
ATTACH;FMTTYPE=image/jpeg:https://www.walkthru.org/wp-content/uploads/ntLIVE-Logo.jpg
GEO:42.09936;-79.3410187
X-APPLE-STRUCTURED-LOCATION;VALUE=URI;X-ADDRESS=Lakewood Baptist Church – 14750 150 Erie Street Lakewood NY 14750 United States;X-APPLE-RADIUS=500;X-TITLE=150 Erie Street:geo:-79.3410187,42.09936
END:VEVENT
BEGIN:VEVENT
DTSTART;TZID=America/New_York:20260919T090000
DTEND;TZID=America/New_York:20260919T120000
DTSTAMP:20260420T061018
CREATED:20260108T210534Z
LAST-MODIFIED:20260223T190702Z
UID:10000738-1789808400-1789819200@www.walkthru.org
SUMMARY:Christ Community Church
DESCRIPTION:Experience the story of redemption like never before as this unforgettable event brings the New Testament to life. \nSchedule Details: \n9:00 AM-12:00 PM \n006RQ00000VXJOb \n 
URL:https://www.walkthru.org/event/christ-community-church-2026-02-07/
LOCATION:Christ Community Church – Graham Chapel – 28757\, 310 Gaither Circle (Gaither Hall)\, Montreat\, NC\, 28757\, United States
CATEGORIES:ntLIVE
ATTACH;FMTTYPE=image/jpeg:https://www.walkthru.org/wp-content/uploads/ntLIVE-Logo.jpg
GEO:35.6466933;-82.2974467
X-APPLE-STRUCTURED-LOCATION;VALUE=URI;X-ADDRESS=Christ Community Church – Graham Chapel – 28757 310 Gaither Circle (Gaither Hall) Montreat NC 28757 United States;X-APPLE-RADIUS=500;X-TITLE=310 Gaither Circle (Gaither Hall):geo:-82.2974467,35.6466933
END:VEVENT
BEGIN:VEVENT
DTSTART;TZID=America/New_York:20261010T090000
DTEND;TZID=America/New_York:20261010T120000
DTSTAMP:20260420T061018
CREATED:20260108T221758Z
LAST-MODIFIED:20260108T221758Z
UID:10000740-1791622800-1791633600@www.walkthru.org
SUMMARY:Butler Global Church
DESCRIPTION:Experience the story of redemption like never before as this unforgettable event brings the New Testament to life. \nSchedule Details: \n9:00 AM-12:00 PM \n006RQ00000VqAmE \n 
URL:https://www.walkthru.org/event/butler-global-church-2026-10-10-ntlive/
LOCATION:Butler Global Church – 16001\, 200 E. North Street\, Butler\, 16001\, United States
CATEGORIES:ntLIVE
ATTACH;FMTTYPE=image/jpeg:https://www.walkthru.org/wp-content/uploads/ntLIVE-Logo.jpg
GEO:40.862496;-79.8932793
X-APPLE-STRUCTURED-LOCATION;VALUE=URI;X-ADDRESS=Butler Global Church – 16001 200 E. North Street Butler 16001 United States;X-APPLE-RADIUS=500;X-TITLE=200 E. North Street:geo:-79.8932793,40.862496
END:VEVENT
BEGIN:VEVENT
DTSTART;TZID=America/New_York:20261010T210000
DTEND;TZID=America/New_York:20261010T210000
DTSTAMP:20260420T061018
CREATED:20260322T060832Z
LAST-MODIFIED:20260322T060910Z
UID:10000760-1791666000-1791666000@www.walkthru.org
SUMMARY:Hope Church
DESCRIPTION:Experience the story of redemption like never before as this unforgettable event brings the New Testament to life. \n9:00 am – 12:00 pm \n006RQ00000XcgRR
URL:https://www.walkthru.org/event/hope-church-2026-10-10-ntlive/
LOCATION:Hope Church – 64154\, 4800 NW 88th St\, Kansas City\, MO\, 64154\, United States
CATEGORIES:ntLIVE
ATTACH;FMTTYPE=image/jpeg:https://www.walkthru.org/wp-content/uploads/ntLIVE-Logo.jpg
GEO:39.2554569;-94.637187
X-APPLE-STRUCTURED-LOCATION;VALUE=URI;X-ADDRESS=Hope Church – 64154 4800 NW 88th St Kansas City MO 64154 United States;X-APPLE-RADIUS=500;X-TITLE=4800 NW 88th St:geo:-94.637187,39.2554569
END:VEVENT
BEGIN:VEVENT
DTSTART;TZID=America/New_York:20261017T090000
DTEND;TZID=America/New_York:20261017T120000
DTSTAMP:20260420T061018
CREATED:20260223T233804Z
LAST-MODIFIED:20260223T234004Z
UID:10000753-1792227600-1792238400@www.walkthru.org
SUMMARY:Oakland Hills Community Church
DESCRIPTION:Experience the story of redemption like never before as this unforgettable event brings the New Testament to life. \nSchedule Details: \n9:00 am – 12:00 pm \n006RQ00000LwLBH
URL:https://www.walkthru.org/event/oakland-hills-community-church-2026-10-17-ntlive/
LOCATION:Oakland Hills Community Church – 48335\, 37150 W Eight Mile Rd Hills\, Farmington\, MI\, 48335\, United States
CATEGORIES:ntLIVE
ATTACH;FMTTYPE=image/jpeg:https://www.walkthru.org/wp-content/uploads/ntLIVE-Logo.jpg
GEO:42.4401129;-83.4109
X-APPLE-STRUCTURED-LOCATION;VALUE=URI;X-ADDRESS=Oakland Hills Community Church – 48335 37150 W Eight Mile Rd Hills Farmington MI 48335 United States;X-APPLE-RADIUS=500;X-TITLE=37150 W Eight Mile Rd Hills:geo:-83.4109,42.4401129
END:VEVENT
BEGIN:VEVENT
DTSTART;VALUE=DATE:20261101
DTEND;VALUE=DATE:20261102
DTSTAMP:20260420T061018
CREATED:20250919T223847Z
LAST-MODIFIED:20251125T141347Z
UID:10000716-1793491200-1793577599@www.walkthru.org
SUMMARY:Reidsville Christian Church
DESCRIPTION:Experience the story of redemption like never before as this unforgettable event brings the New Testament to life. \nSchedule Details: \n\n\n\n\n\nSession 1-11:00 morning Worship service\nSessions 2-5 immediately after lunch\n\n\n\n\n2\n\n\n\n\n\n006RQ00000Q7BhK \n 
URL:https://www.walkthru.org/event/reidsville-christian-church-2025-11-9-ntlive/
LOCATION:Reidsville Christian Church – 27320\, 2020 South Park Drive\, Reidsville\, NC\, 27320\, United States
CATEGORIES:ntLIVE
ATTACH;FMTTYPE=image/jpeg:https://www.walkthru.org/wp-content/uploads/ntLIVE-Logo.jpg
GEO:36.3288825;-79.6840352
X-APPLE-STRUCTURED-LOCATION;VALUE=URI;X-ADDRESS=Reidsville Christian Church – 27320 2020 South Park Drive Reidsville NC 27320 United States;X-APPLE-RADIUS=500;X-TITLE=2020 South Park Drive:geo:-79.6840352,36.3288825
END:VEVENT
END:VCALENDAR